Workbook

Sheet Инструкция
A1: ИНСТРУКЦИЯ | B1: 2027
A3: Создать резервную копию файла.
A4: Заполнить ТОЛЬКО ячейки СВЕТЛО-ЖЕЛТОГО цвета
A5: !!! Изменять, удалять и добалять содержимое, строки и листы в файле НЕ НУЖНО !!!
A6: !!! Переименовывать Листы файла Excel ЗАПРЕЩЕНО !!!
A7: !!! Снимать защиту с файла ЗАПРЕЩЕНО !!!
A8: Распечатать заполненную Потребность (Лист 1)
A9: Подписать Потребность у руководителя, поставить печать, отсканировать (перевести в формат PDF)
A10: Переименовать файлы Excel и PDF названием, содержащим информацию о вашей МО
A11: например "Потр_ММЦ Поветлужье_27 " или "Потр_ГКБ 13_27"
A13: Направить в адрес orgmetoda@yandex.ru созданные файл PDF (1 шт.) и файл EXCEL (1шт.)
A15: Увеличение количества компонентов донорской крови (продукта) производится только по согласованию сторон после рассмотрения дополнительной заявки и заключения дополнительного Договора с внесением изменений в Спецификацию
A17: В случае изменений в наименовании медицинской организации, платежных реквизитах, должности и ФИО руководителя организаци после отправки потребности до подписания Договора необходимо вновь отправить исправленную потребность
... A21: ликвидации трансфузиологической службы в подразделении

Sheet Лист1
C1: Потребность | F1: 2027
C2: в гемотрансфузионных средах
C3: на 2027 год
B7: Краткое наименование МО | C7: ГБУЗ НО "ХХХХХ"
C8: (краткое наименование)
B10: Номер и дата лицензии на медицинскую деятельность содержащей вид деятельности трансфузиология
B11: Серия и номер | C11: Л041-ХХХХХ-52/ХХХХХХХХ
B12: Дата | C12: ХХ.ХХ.ХХХХ
B13: Кем выдана
A16: № п/п | C16: Наименование продукта | E16: Ед. изм. | F16: Кол-во
A17: 1 | B17: 2 | E17: 3 | F17: 4
A18: 1 | B18: Эритроцитная взвесь лейкоредуцированная | D18: ЭВ-Л | E18: л | F18: 0
A19: 2 | B19: Эритроцитная взвесь лейкоредуцированная, облученная | D19: ЭВ-ЛО | E19: л | F19: 0
A20: 3 | B20: Отмытые эритроциты | D20: ОЭ | E20: л | F20: 0
A21: 4 | B21: Отмытые эритроциты облученные | D21: ОЭ-О | E21: л | F21: 0
A22: 5 | B22: Эритроцитная взвесь размороженная, отмытая | D22: ЭВ-РО | E22: л | F22: 0
A23: 6 | B23: Концентрат тромбоцитов лейкоредуцированный, пулированный, в добавочном растворе | D23: КТ-ЛПДР | E23: ед. | F23: 0
A24: 7 | B24: Концентрат тромбоцитов лейкоредуцированный, пулированный, патогенредуцированный, в добавочном растворе | D24: КТ-ЛППДР | E24: ед. | F24: 0
A25: 8 | B25: Концентрат тромбоцитов лейкоредуцированный, полученный методом афереза | D25: КТ-ЛПА | E25: ед. | F25: 0
A26: 9 | B26: Концентрат тромбоцитов лейкоредуцированный, полученный методом афереза, патогенредуцированный | D26: КТ-ЛАП | E26: ед. | F26: 0
A27: 10 | B27: Концентрат тромбоцитов лейкоредуцированный, полученный методом афереза, в добавочном растворе | D27: КТ-ЛАДР | E27: ед. | F27: 0
A28: 11 | B28: Концентрат тромбоцитов лейкоредуцированный, пулированный, в добавочном растворе, облученный | D28: КТ-ЛПДРО | E28: ед. | F28: 0
A29: 12 | B29: Концентрат тромбоцитов лейкоредуцированный, полученный методом афереза, облученный | D29: КТ-ЛПАО | E29: ед. | F29: 0
... A33: 16 | B33: Криопреципитат из единицы донорской крови и (или) ее компонентов | D33: КРИО | E33: ед. | F33: 0
B35: Врач-трансфузиолог
C36: (ФИО полностью) | E36: (подпись)
B37: Рабочий телефон
B38: Сотовый телефон
C40: Данные по МО
B41: Польное наименование | C41: Государственное бюджетное учреждение здравоохранения Нижегородской области "ХХХХХХ"
B42: Краткое наименование | C42: =C7 -> ГБУЗ НО "ХХХХХ"
B43: Адрес | C43: 60ХХХХ, Нижегородская область, ХХХХХХ, ХХХХХХ, дом ХХХ
B44: телефон | C44: 8(831) ХХХХХХХ, бухгалтерия 8(831) ХХХХХХХ
B45: ИНН/КПП | C45: ИНН 52ХХХХХХХХ, КПП 52ХХХХХХХХ
B46: Реквизиты
B48: Перечень наименований юридических лиц, вошедших в состав МО в 2026 году (окончательное документальное оформление за весь период 2026 года) | D48: будут продолжать проводить гемотрансфузии (Да/Нет)
B49: 1
B50: 2
B51: 3
B52: 4
...

Sheet 2
A1: =Лист1!C42 -> ГБУЗ НО "ХХХХХ" | B1: =Лист1!A18 -> 1 | C1: =Лист1!B18 -> Эритроцитная взвесь лейкоредуцированная | D1: =Лист1!D18 -> ЭВ-Л | E1: =Лист1!E18 -> л | F1: =Лист1!F18 -> 0
A2: ГБУЗ НО «ГКБ № 13 Автозаводского района» | B2: =Лист1!A19 -> 2 | C2: =Лист1!B19 -> Эритроцитная взвесь лейкоредуцированная, облученная | D2: =Лист1!D19 -> ЭВ-ЛО | E2: =Лист1!E19 -> л | F2: =Лист1!F19 -> 0
A3: ГБУЗ НО «ГКБ № 13 Автозаводского района» | B3: =Лист1!A20 -> 3 | C3: =Лист1!B20 -> Отмытые эритроциты | D3: =Лист1!D20 -> ОЭ | E3: =Лист1!E20 -> л | F3: =Лист1!F20 -> 0
A4: ГБУЗ НО «ГКБ № 13 Автозаводского района» | B4: =Лист1!A21 -> 4 | C4: =Лист1!B21 -> Отмытые эритроциты облученные | D4: =Лист1!D21 -> ОЭ-О | E4: =Лист1!E21 -> л | F4: =Лист1!F21 -> 0
A5: ГБУЗ НО «ГКБ № 13 Автозаводского района» | B5: =Лист1!A22 -> 5 | C5: =Лист1!B22 -> Эритроцитная взвесь размороженная, отмытая | D5: =Лист1!D22 -> ЭВ-РО | E5: =Лист1!E22 -> л | F5: =Лист1!F22 -> 0
A6: ГБУЗ НО «ГКБ № 13 Автозаводского района» | B6: =Лист1!A23 -> 6 | C6: =Лист1!B23 -> Концентрат тромбоцитов лейкоредуцированный, пулированный, в добавочном растворе | D6: =Лист1!D23 -> КТ-ЛПДР | E6: =Лист1!E23 -> ед. | F6: =Лист1!F23 -> 0
A7: ГБУЗ НО «ГКБ № 13 Автозаводского района» | B7: =Лист1!A24 -> 7 | C7: =Лист1!B25 -> Концентрат тромбоцитов лейкоредуцированный, полученный методом афереза | D7: =Лист1!D25 -> КТ-ЛПА | E7: =Лист1!E25 -> ед. | F7: =Лист1!F25 -> 0
A8: ГБУЗ НО «ГКБ № 13 Автозаводского района» | B8: =Лист1!A25 -> 8 | C8: =Лист1!B26 -> Концентрат тромбоцитов лейкоредуцированный, полученный методом афереза, патогенредуцированный | D8: =Лист1!D26 -> КТ-ЛАП | E8: =Лист1!E26 -> ед. | F8: =Лист1!F26 -> 0
A9: ГБУЗ НО «ГКБ № 13 Автозаводского района» | B9: =Лист1!A26 -> 9 | C9: =Лист1!B27 -> Концентрат тромбоцитов лейкоредуцированный, полученный методом афереза, в добавочном растворе | D9: =Лист1!D27 -> КТ-ЛАДР | E9: =Лист1!E27 -> ед. | F9: =Лист1!F27 -> 0
A10: ГБУЗ НО «ГКБ № 13 Автозаводского района» | B10: =Лист1!A27 -> 10 | C10: =Лист1!B28 -> Концентрат тромбоцитов лейкоредуцированный, пулированный, в добавочном растворе, облученный | D10: =Лист1!D28 -> КТ-ЛПДРО | E10: =Лист1!E28 -> ед. | F10: =Лист1!F28 -> 0
A11: ГБУЗ НО «ГКБ № 13 Автозаводского района» | B11: =Лист1!A28 -> 11 | C11: =Лист1!B29 -> Концентрат тромбоцитов лейкоредуцированный, полученный методом афереза, облученный | D11: =Лист1!D29 -> КТ-ЛПАО | E11: =Лист1!E29 -> ед. | F11: =Лист1!F29 -> 0
A12: ГБУЗ НО «ГКБ № 13 Автозаводского района» | B12: =Лист1!A29 -> 12 | C12: =Лист1!B30 -> Концентрат тромбоцитов лейкоредуцированный, полученный методом афереза, в добавочном растворе, облученный | D12: =Лист1!D30 -> КТ-ЛАДРО | E12: =Лист1!E30 -> ед. | F12: =Лист1!F30 -> 0
A13: ГБУЗ НО «ГКБ № 13 Автозаводского района» | B13: =Лист1!A30 -> 13 | C13: =Лист1!B31 -> Концентрат тромбоцитов лейкоредуцированный, криоконсервированный, размороженный | D13: =Лист1!D31 -> КТ-ЛКР | E13: =Лист1!E31 -> ед. | F13: =Лист1!F31 -> 0
A14: ГБУЗ НО «ГКБ № 13 Автозаводского района» | B14: =Лист1!A31 -> 14 | C14: =Лист1!B32 -> Свежезамороженная плазма | D14: =Лист1!D32 -> СЗП | E14: =Лист1!E32 -> л | F14: =Лист1!F32 -> 0
A15: ГБУЗ НО «ГКБ № 13 Автозаводского района» | B15: =Лист1!A32 -> 15 | C15: =Лист1!B33 -> Криопреципитат из единицы донорской крови и (или) ее компонентов | D15: =Лист1!D33 -> КРИО | E15: =Лист1!E33 -> ед. | F15: =Лист1!F33 -> 0
A16: ГБУЗ НО «ГКБ № 13 Автозаводского района» | B16: =Лист1!#REF! -> #REF! | C16: =Лист1!#REF! -> #REF! | D16: =Лист1!#REF! -> #REF! | E16: =Лист1!#REF! -> #REF! | F16: =Лист1!#REF! -> #REF!
A17: ГБУЗ НО «ГКБ № 13 Автозаводского района» | B17: =Лист1!#REF! -> #REF! | C17: =Лист1!#REF! -> #REF! | D17: =Лист1!#REF! -> #REF! | E17: =Лист1!#REF! -> #REF! | F17: =Лист1!#REF! -> #REF!
